BEGIN:VCALENDAR
VERSION:2.0
PRODID:spatie/icalendar-generator
NAME:Wouter Leenders
X-WR-CALNAME:Wouter Leenders
BEGIN:VTIMEZONE
TZID:Europe/Helsinki
BEGIN:DAYLIGHT
DTSTART:20260329T030000Z
TZOFFSETFROM:+0200
TZOFFSETTO:+0300
END:DAYLIGHT
BEGIN:STANDARD
DTSTART:20261025T040000Z
TZOFFSETFROM:+0300
TZOFFSETTO:+0200
END:STANDARD
BEGIN:DAYLIGHT
DTSTART:20270328T030000Z
TZOFFSETFROM:+0200
TZOFFSETTO:+0300
END:DAYLIGHT
END:VTIMEZONE
BEGIN:VTIMEZONE
TZID:UTC
BEGIN:STANDARD
DTSTART:20250725T153725Z
TZOFFSETFROM:+0000
TZOFFSETTO:+0000
END:STANDARD
END:VTIMEZONE
BEGIN:VEVENT
UID:69e799b591105
DTSTAMP:20260421T153725Z
SUMMARY:Wouter Leenders
DESCRIPTION:
LOCATION:
STATUS:CONFIRMED
URL:https://www.helsinkigse.fi/events/wouter-leenders
DTSTART;TZID=Europe/Helsinki:20261124T150000
DTEND;TZID=Europe/Helsinki:20261124T160000
END:VEVENT
END:VCALENDAR