BEGIN:VCALENDAR
VERSION:2.0
PRODID:spatie/icalendar-generator
NAME:Veronica Salazar-Restrepo
X-WR-CALNAME:Veronica Salazar-Restrepo
BEGIN:VTIMEZONE
TZID:Europe/Helsinki
BEGIN:DAYLIGHT
DTSTART:20260329T030000Z
TZOFFSETFROM:+0200
TZOFFSETTO:+0300
END:DAYLIGHT
BEGIN:STANDARD
DTSTART:20261025T040000Z
TZOFFSETFROM:+0300
TZOFFSETTO:+0200
END:STANDARD
BEGIN:DAYLIGHT
DTSTART:20270328T030000Z
TZOFFSETFROM:+0200
TZOFFSETTO:+0300
END:DAYLIGHT
END:VTIMEZONE
BEGIN:VTIMEZONE
TZID:UTC
BEGIN:STANDARD
DTSTART:20250724T163441Z
TZOFFSETFROM:+0000
TZOFFSETTO:+0000
END:STANDARD
END:VTIMEZONE
BEGIN:VEVENT
UID:69e655a1a4167
DTSTAMP:20260420T163441Z
SUMMARY:Veronica Salazar-Restrepo
DESCRIPTION:
LOCATION:
STATUS:CONFIRMED
URL:https://www.helsinkigse.fi/events/veronica-salazar-restrepo
DTSTART;TZID=Europe/Helsinki:20261026T150000
DTEND;TZID=Europe/Helsinki:20261026T160000
END:VEVENT
END:VCALENDAR