BEGIN:VCALENDAR
VERSION:2.0
PRODID:spatie/icalendar-generator
NAME:Mathias Reynaert
X-WR-CALNAME:Mathias Reynaert
BEGIN:VTIMEZONE
TZID:Europe/Helsinki
BEGIN:DAYLIGHT
DTSTART:20260329T030000Z
TZOFFSETFROM:+0200
TZOFFSETTO:+0300
END:DAYLIGHT
BEGIN:STANDARD
DTSTART:20261025T040000Z
TZOFFSETFROM:+0300
TZOFFSETTO:+0200
END:STANDARD
BEGIN:DAYLIGHT
DTSTART:20270328T030000Z
TZOFFSETFROM:+0200
TZOFFSETTO:+0300
END:DAYLIGHT
END:VTIMEZONE
BEGIN:VTIMEZONE
TZID:UTC
BEGIN:STANDARD
DTSTART:20250724T122958Z
TZOFFSETFROM:+0000
TZOFFSETTO:+0000
END:STANDARD
END:VTIMEZONE
BEGIN:VEVENT
UID:69e61c467fa2b
DTSTAMP:20260420T122958Z
SUMMARY:Mathias Reynaert
DESCRIPTION:
LOCATION:Seminar hall\, Economicum\, Arkadiankatu 7\, Helsinki
STATUS:CONFIRMED
URL:https://www.helsinkigse.fi/events/mathias-reynaert
DTSTART;TZID=Europe/Helsinki:20261009T143000
DTEND;TZID=Europe/Helsinki:20261009T154500
END:VEVENT
END:VCALENDAR