BEGIN:VCALENDAR
VERSION:2.0
PRODID:spatie/icalendar-generator
NAME:Jenifer Ruiz Valenzuela
X-WR-CALNAME:Jenifer Ruiz Valenzuela
BEGIN:VTIMEZONE
TZID:Europe/Helsinki
BEGIN:DAYLIGHT
DTSTART:20260329T030000Z
TZOFFSETFROM:+0200
TZOFFSETTO:+0300
END:DAYLIGHT
BEGIN:STANDARD
DTSTART:20261025T040000Z
TZOFFSETFROM:+0300
TZOFFSETTO:+0200
END:STANDARD
BEGIN:DAYLIGHT
DTSTART:20270328T030000Z
TZOFFSETFROM:+0200
TZOFFSETTO:+0300
END:DAYLIGHT
END:VTIMEZONE
BEGIN:VTIMEZONE
TZID:UTC
BEGIN:STANDARD
DTSTART:20250724T164816Z
TZOFFSETFROM:+0000
TZOFFSETTO:+0000
END:STANDARD
END:VTIMEZONE
BEGIN:VEVENT
UID:69e658d04929d
DTSTAMP:20260420T164816Z
SUMMARY:Jenifer Ruiz Valenzuela
DESCRIPTION:
LOCATION:
STATUS:CONFIRMED
URL:https://www.helsinkigse.fi/events/jenifer-ruiz-valenzuela
DTSTART;TZID=Europe/Helsinki:20261006T120000
DTEND;TZID=Europe/Helsinki:20261006T130000
END:VEVENT
END:VCALENDAR