BEGIN:VCALENDAR
VERSION:2.0
PRODID:spatie/icalendar-generator
NAME:Jakob Miethe
X-WR-CALNAME:Jakob Miethe
BEGIN:VTIMEZONE
TZID:Europe/Helsinki
BEGIN:DAYLIGHT
DTSTART:20260329T030000Z
TZOFFSETFROM:+0200
TZOFFSETTO:+0300
END:DAYLIGHT
BEGIN:STANDARD
DTSTART:20261025T040000Z
TZOFFSETFROM:+0300
TZOFFSETTO:+0200
END:STANDARD
BEGIN:DAYLIGHT
DTSTART:20270328T030000Z
TZOFFSETFROM:+0200
TZOFFSETTO:+0300
END:DAYLIGHT
END:VTIMEZONE
BEGIN:VTIMEZONE
TZID:UTC
BEGIN:STANDARD
DTSTART:20250724T150531Z
TZOFFSETFROM:+0000
TZOFFSETTO:+0000
END:STANDARD
END:VTIMEZONE
BEGIN:VEVENT
UID:69e640bbc5384
DTSTAMP:20260420T150531Z
SUMMARY:Jakob Miethe
DESCRIPTION:
LOCATION:
STATUS:CONFIRMED
URL:https://www.helsinkigse.fi/events/jakob-miethe
DTSTART;TZID=Europe/Helsinki:20260929T150000
DTEND;TZID=Europe/Helsinki:20260929T160000
END:VEVENT
END:VCALENDAR