BEGIN:VCALENDAR
VERSION:2.0
PRODID:spatie/icalendar-generator
NAME:Jakob Egholt Søgaard
X-WR-CALNAME:Jakob Egholt Søgaard
BEGIN:VTIMEZONE
TZID:Europe/Helsinki
BEGIN:DAYLIGHT
DTSTART:20260329T030000Z
TZOFFSETFROM:+0200
TZOFFSETTO:+0300
END:DAYLIGHT
BEGIN:STANDARD
DTSTART:20261025T040000Z
TZOFFSETFROM:+0300
TZOFFSETTO:+0200
END:STANDARD
END:VTIMEZONE
BEGIN:VTIMEZONE
TZID:UTC
BEGIN:STANDARD
DTSTART:20250724T123333Z
TZOFFSETFROM:+0000
TZOFFSETTO:+0000
END:STANDARD
END:VTIMEZONE
BEGIN:VEVENT
UID:69e61d1d3530d
DTSTAMP:20260420T123333Z
SUMMARY:Jakob Egholt Søgaard
DESCRIPTION:
LOCATION:
STATUS:CONFIRMED
URL:https://www.helsinkigse.fi/events/jakob-egholt-sogaard
DTSTART;TZID=Europe/Helsinki:20260901T150000
DTEND;TZID=Europe/Helsinki:20260901T160000
END:VEVENT
END:VCALENDAR