BEGIN:VCALENDAR
VERSION:2.0
PRODID:spatie/icalendar-generator
NAME:Basile Grassi
X-WR-CALNAME:Basile Grassi
BEGIN:VTIMEZONE
TZID:Europe/Helsinki
BEGIN:DAYLIGHT
DTSTART:20260329T030000Z
TZOFFSETFROM:+0200
TZOFFSETTO:+0300
END:DAYLIGHT
BEGIN:STANDARD
DTSTART:20261025T040000Z
TZOFFSETFROM:+0300
TZOFFSETTO:+0200
END:STANDARD
BEGIN:DAYLIGHT
DTSTART:20270328T030000Z
TZOFFSETFROM:+0200
TZOFFSETTO:+0300
END:DAYLIGHT
END:VTIMEZONE
BEGIN:VTIMEZONE
TZID:UTC
BEGIN:STANDARD
DTSTART:20250724T124620Z
TZOFFSETFROM:+0000
TZOFFSETTO:+0000
END:STANDARD
END:VTIMEZONE
BEGIN:VEVENT
UID:69e6201cecd55
DTSTAMP:20260420T124620Z
SUMMARY:Basile Grassi
DESCRIPTION:
LOCATION:Seminar hall\, Economicum\, Arkadiankatu 7\, Helsinki
STATUS:CONFIRMED
URL:https://www.helsinkigse.fi/events/basile-grassi
DTSTART;TZID=Europe/Helsinki:20261023T143000
DTEND;TZID=Europe/Helsinki:20261023T154500
END:VEVENT
END:VCALENDAR